BEGIN:VCALENDAR
PRODID:-//punkave//apostrophe 2.x//EN
VERSION:1.0
TZ:0
BEGIN:VEVENT
CATEGORIES:MEETING
DTSTART:20220607T040000Z
DTEND:20220607T040000Z
DTSTAMP:20260420T183614Z
SUMMARY:7th and 8th Grade Exams End
DESCRIPTION:7th and 8th Grade Exams End
LOCATION:undefined
UID:568129015440431228
END:VEVENT
END:VCALENDAR
