BEGIN:VCALENDAR
PRODID:-//punkave//apostrophe 2.x//EN
VERSION:1.0
TZ:0
BEGIN:VEVENT
CATEGORIES:MEETING
DTSTART:20220606T040000Z
DTEND:20220606T040000Z
DTSTAMP:20260420T183631Z
SUMMARY:7th and 8th Grade Exams
DESCRIPTION:7th and 8th Grade Exams
LOCATION:undefined
UID:989726112830640358
END:VEVENT
END:VCALENDAR
