BEGIN:VCALENDAR
PRODID:-//punkave//apostrophe 2.x//EN
VERSION:1.0
TZ:0
BEGIN:VEVENT
CATEGORIES:MEETING
DTSTART:20220428T124500Z
DTEND:20220414T143000Z
DTSTAMP:20260420T165505Z
SUMMARY:Admission Open House
DESCRIPTION:Admission Open House
LOCATION:undefined
UID:378247532740156286
END:VEVENT
END:VCALENDAR
