BEGIN:VCALENDAR
PRODID:-//punkave//apostrophe 2.x//EN
VERSION:1.0
TZ:0
BEGIN:VEVENT
CATEGORIES:MEETING
DTSTART:20220929T124500Z
DTEND:20220929T143000Z
DTSTAMP:20260421T012043Z
SUMMARY:Admission Open House
DESCRIPTION:
LOCATION:undefined
UID:140387119169300822
END:VEVENT
END:VCALENDAR
