BEGIN:VCALENDAR
PRODID:-//punkave//apostrophe 2.x//EN
VERSION:1.0
TZ:0
BEGIN:VEVENT
CATEGORIES:MEETING
DTSTART:20220905T040000Z
DTEND:20220905T040000Z
DTSTAMP:20260420T234616Z
SUMMARY:After School Program Closed
DESCRIPTION:After School Program Closed
LOCATION:undefined
UID:340629823125311755
END:VEVENT
END:VCALENDAR
