BEGIN:VCALENDAR
PRODID:-//punkave//apostrophe 2.x//EN
VERSION:1.0
TZ:0
BEGIN:VEVENT
CATEGORIES:MEETING
DTSTART:20220430T050000Z
DTEND:20220430T070000Z
DTSTAMP:20260420T165432Z
SUMMARY:Alumni Day
DESCRIPTION:Alumni Day IN PERSON: 1-3 PM
LOCATION:undefined
UID:602857697813399108
END:VEVENT
END:VCALENDAR
