BEGIN:VCALENDAR
PRODID:-//punkave//apostrophe 2.x//EN
VERSION:1.0
TZ:0
BEGIN:VEVENT
CATEGORIES:MEETING
DTSTART:20221007T040000Z
DTEND:20221007T040000Z
DTSTAMP:20260421T013959Z
SUMMARY:ASP Closed
DESCRIPTION:ASP Closed
LOCATION:undefined
UID:80349754036145993
END:VEVENT
END:VCALENDAR
