BEGIN:VCALENDAR
PRODID:-//punkave//apostrophe 2.x//EN
VERSION:1.0
TZ:0
BEGIN:VEVENT
CATEGORIES:MEETING
DTSTART:20220906T153000Z
DTEND:20220906T220000Z
DTSTAMP:20260420T234433Z
SUMMARY:ASP Open
DESCRIPTION:ASP Open
LOCATION:undefined
UID:872349826263100452
END:VEVENT
END:VCALENDAR
