BEGIN:VCALENDAR
PRODID:-//punkave//apostrophe 2.x//EN
VERSION:1.0
TZ:0
BEGIN:VEVENT
CATEGORIES:MEETING
DTSTART:20220813T130000Z
DTEND:20220813T143000Z
DTSTAMP:20260420T220218Z
SUMMARY:BIPOC Affinity Group Breakfast
DESCRIPTION:Join us for this collaboration between the BIPOC Affinity Group of PCA CARES and the GSFS Director of DEI. This will be an opportunity for BIPOC parents, caregivers, and students to share in fellowship and food before the school year begins. 

Visit bit.ly/BIPOCBreakfast to RSVP and sign up for a treat.
LOCATION:undefined
UID:43760030410405314
END:VEVENT
END:VCALENDAR
