BEGIN:VCALENDAR
PRODID:-//punkave//apostrophe 2.x//EN
VERSION:1.0
TZ:0
BEGIN:VEVENT
CATEGORIES:MEETING
DTSTART:20220422T120000Z
DTEND:20220422T170000Z
DTSTAMP:20260420T171649Z
SUMMARY:Blood Drive
DESCRIPTION:Blood Drive
LOCATION:undefined
UID:650398396926067213
END:VEVENT
END:VCALENDAR
