BEGIN:VCALENDAR
PRODID:-//punkave//apostrophe 2.x//EN
VERSION:1.0
TZ:0
BEGIN:VEVENT
CATEGORIES:MEETING
DTSTART:20220426T220000Z
DTEND:20220427T010000Z
DTSTAMP:20260420T165751Z
SUMMARY:Board of Trustees Meeting
DESCRIPTION:Board of Trustees Meeting
LOCATION:undefined
UID:895681156988627
END:VEVENT
END:VCALENDAR
