BEGIN:VCALENDAR
PRODID:-//punkave//apostrophe 2.x//EN
VERSION:1.0
TZ:0
BEGIN:VEVENT
CATEGORIES:MEETING
DTSTART:20220929T223000Z
DTEND:20220930T003000Z
DTSTAMP:20260421T013713Z
SUMMARY:GSFS Family Workshop
DESCRIPTION:
LOCATION:undefined
UID:847015594661796967
END:VEVENT
END:VCALENDAR
