BEGIN:VCALENDAR
PRODID:-//punkave//apostrophe 2.x//EN
VERSION:1.0
TZ:0
BEGIN:VEVENT
CATEGORIES:MEETING
DTSTART:20220920T230000Z
DTEND:20220921T000000Z
DTSTAMP:20260421T013811Z
SUMMARY:Costa Rica Info Session for 8th Grade Parents & Caregivers
DESCRIPTION:All 8th grade parents and caregivers must attend this information session about the 8th grade trip to Costa Rica. The meeting is scheduled to be in person at Greene Street Friends School. Contact Nicole Novack with questions.
LOCATION:undefined
UID:762585566283678492
END:VEVENT
END:VCALENDAR
