BEGIN:VCALENDAR
PRODID:-//punkave//apostrophe 2.x//EN
VERSION:1.0
TZ:0
BEGIN:VEVENT
CATEGORIES:MEETING
DTSTART:20220412T230000Z
DTEND:20220413T003000Z
DTSTAMP:20260420T151440Z
SUMMARY:DEI Family Workshop (in-person)
DESCRIPTION:DEI Family Workshop (in-person)
LOCATION:undefined
UID:668078932193395549
END:VEVENT
END:VCALENDAR
