BEGIN:VCALENDAR
PRODID:-//punkave//apostrophe 2.x//EN
VERSION:1.0
TZ:0
BEGIN:VEVENT
CATEGORIES:MEETING
DTSTART:20220414T230000Z
DTEND:20220415T003000Z
DTSTAMP:20260420T172439Z
SUMMARY:DEI Family Workshop (virtual)
DESCRIPTION:DEI Family Workshop (virtual)
LOCATION:undefined
UID:675827354180369004
END:VEVENT
END:VCALENDAR
