BEGIN:VCALENDAR
PRODID:-//punkave//apostrophe 2.x//EN
VERSION:1.0
TZ:0
BEGIN:VEVENT
CATEGORIES:MEETING
DTSTART:20220511T170000Z
DTEND:20220511T170000Z
DTSTAMP:20260420T165904Z
SUMMARY:Early Dismissal: Faculty/Staff In-Service
DESCRIPTION:Early Dismissal: Faculty/Staff In-Service
LOCATION:undefined
UID:322815208444194081
END:VEVENT
END:VCALENDAR
