BEGIN:VCALENDAR
PRODID:-//punkave//apostrophe 2.x//EN
VERSION:1.0
TZ:0
BEGIN:VEVENT
CATEGORIES:MEETING
DTSTART:20220421T153000Z
DTEND:20220421T153000Z
DTSTAMP:20260420T172547Z
SUMMARY:Early Dismissal
DESCRIPTION:Early Dismissal
LOCATION:undefined
UID:568011446401598475
END:VEVENT
END:VCALENDAR
