BEGIN:VCALENDAR
PRODID:-//punkave//apostrophe 2.x//EN
VERSION:1.0
TZ:0
BEGIN:VEVENT
CATEGORIES:MEETING
DTSTART:20220906T153000Z
DTEND:20220906T153000Z
DTSTAMP:20260421T011848Z
SUMMARY:Early Dismissal
DESCRIPTION:Early Dismissal
LOCATION:undefined
UID:558471906291622171
END:VEVENT
END:VCALENDAR
