BEGIN:VCALENDAR
PRODID:-//punkave//apostrophe 2.x//EN
VERSION:1.0
TZ:0
BEGIN:VEVENT
CATEGORIES:MEETING
DTSTART:20220417T040000Z
DTEND:20220417T040000Z
DTSTAMP:20260420T171853Z
SUMMARY:Easter
DESCRIPTION:Easter
LOCATION:undefined
UID:927976208492054228
END:VEVENT
END:VCALENDAR
