BEGIN:VCALENDAR
PRODID:-//punkave//apostrophe 2.x//EN
VERSION:1.0
TZ:0
BEGIN:VEVENT
CATEGORIES:MEETING
DTSTART:20220710T040000Z
DTEND:20220710T040000Z
DTSTAMP:20260420T201354Z
SUMMARY:Eid al-Adha
DESCRIPTION:Eid al-Adha
LOCATION:undefined
UID:978341411781805652
END:VEVENT
END:VCALENDAR
