BEGIN:VCALENDAR
PRODID:-//punkave//apostrophe 2.x//EN
VERSION:1.0
TZ:0
BEGIN:VEVENT
CATEGORIES:MEETING
DTSTART:20220616T120000Z
DTEND:20220616T200000Z
DTSTAMP:20260420T201735Z
SUMMARY:Faculty Work Week
DESCRIPTION:Faculty Work Week
LOCATION:undefined
UID:21643924266202343
END:VEVENT
END:VCALENDAR
