BEGIN:VCALENDAR
PRODID:-//punkave//apostrophe 2.x//EN
VERSION:1.0
TZ:0
BEGIN:VEVENT
CATEGORIES:MEETING
DTSTART:20220617T120000Z
DTEND:20220617T200000Z
DTSTAMP:20260420T201717Z
SUMMARY:Faculty Work Week
DESCRIPTION:Faculty Work Week
LOCATION:undefined
UID:78200955897671494
END:VEVENT
END:VCALENDAR
