BEGIN:VCALENDAR
PRODID:-//punkave//apostrophe 2.x//EN
VERSION:1.0
TZ:0
BEGIN:VEVENT
CATEGORIES:MEETING
DTSTART:20220902T160000Z
DTEND:20220902T200000Z
DTSTAMP:20260420T235216Z
SUMMARY:Faculty Work Week
DESCRIPTION:Faculty Work Week
LOCATION:undefined
UID:638954163849265971
END:VEVENT
END:VCALENDAR
