BEGIN:VCALENDAR
PRODID:-//punkave//apostrophe 2.x//EN
VERSION:1.0
TZ:0
BEGIN:VEVENT
CATEGORIES:MEETING
DTSTART:20220901T120000Z
DTEND:20220901T200000Z
DTSTAMP:20260420T234600Z
SUMMARY:Faculty Work Week
DESCRIPTION:Faculty Work Week
LOCATION:undefined
UID:528456259666392145
END:VEVENT
END:VCALENDAR
