BEGIN:VCALENDAR
PRODID:-//punkave//apostrophe 2.x//EN
VERSION:1.0
TZ:0
BEGIN:VEVENT
CATEGORIES:MEETING
DTSTART:20220619T040000Z
DTEND:20220619T040000Z
DTSTAMP:20260420T201347Z
SUMMARY:Father's Day
DESCRIPTION:Father's Day
LOCATION:undefined
UID:445626613981969756
END:VEVENT
END:VCALENDAR
