BEGIN:VCALENDAR
PRODID:-//punkave//apostrophe 2.x//EN
VERSION:1.0
TZ:0
BEGIN:VEVENT
CATEGORIES:MEETING
DTSTART:20200214T050000Z
DTEND:20200214T050000Z
DTSTAMP:20260421T115930Z
SUMMARY:Financial Aid Forms due
DESCRIPTION:Financial Aid Forms due
LOCATION:undefined
UID:412043137800332963
END:VEVENT
END:VCALENDAR
