BEGIN:VCALENDAR
PRODID:-//punkave//apostrophe 2.x//EN
VERSION:1.0
TZ:0
BEGIN:VEVENT
CATEGORIES:MEETING
DTSTART:20220906T120000Z
DTEND:20220906T153000Z
DTSTAMP:20260420T234832Z
SUMMARY:First Day of School for All Students
DESCRIPTION:First Day of School for All Students
LOCATION:undefined
UID:513230645876673767
END:VEVENT
END:VCALENDAR
