BEGIN:VCALENDAR
PRODID:-//punkave//apostrophe 2.x//EN
VERSION:1.0
TZ:0
BEGIN:VEVENT
CATEGORIES:MEETING
DTSTART:20220907T120000Z
DTEND:20220907T190000Z
DTSTAMP:20260421T011832Z
SUMMARY:First Full Day for All!
DESCRIPTION:
LOCATION:undefined
UID:163502879985009677
END:VEVENT
END:VCALENDAR
