BEGIN:VCALENDAR
PRODID:-//punkave//apostrophe 2.x//EN
VERSION:1.0
TZ:0
BEGIN:VEVENT
CATEGORIES:MEETING
DTSTART:20220902T120000Z
DTEND:20220902T160000Z
DTSTAMP:20260420T234623Z
SUMMARY:Get Acquainted Conferences
DESCRIPTION:Get Acquainted Conferences
LOCATION:undefined
UID:809556289817548135
END:VEVENT
END:VCALENDAR
