BEGIN:VCALENDAR
PRODID:-//punkave//apostrophe 2.x//EN
VERSION:1.0
TZ:0
BEGIN:VEVENT
CATEGORIES:MEETING
DTSTART:20220901T163000Z
DTEND:20220901T200000Z
DTSTAMP:20260420T235215Z
SUMMARY:Get Acquainted Conferences
DESCRIPTION:Get Acquainted Conferences
LOCATION:undefined
UID:205067052266718908
END:VEVENT
END:VCALENDAR
