BEGIN:VCALENDAR
PRODID:-//punkave//apostrophe 2.x//EN
VERSION:1.0
TZ:0
BEGIN:VEVENT
CATEGORIES:MEETING
DTSTART:20220906T170000Z
DTEND:20220906T210000Z
DTSTAMP:20260421T012339Z
SUMMARY:Get Acquainted Conferences
DESCRIPTION:Get Acquainted Conferences
LOCATION:undefined
UID:607577685180869129
END:VEVENT
END:VCALENDAR
