BEGIN:VCALENDAR
PRODID:-//punkave//apostrophe 2.x//EN
VERSION:1.0
TZ:0
BEGIN:VEVENT
CATEGORIES:MEETING
DTSTART:20220415T040000Z
DTEND:20220415T040000Z
DTSTAMP:20260420T172021Z
SUMMARY:Good Friday
DESCRIPTION:Good Friday
LOCATION:undefined
UID:821981119968489383
END:VEVENT
END:VCALENDAR
