BEGIN:VCALENDAR
PRODID:-//punkave//apostrophe 2.x//EN
VERSION:1.0
TZ:0
BEGIN:VEVENT
CATEGORIES:MEETING
DTSTART:20220603T121500Z
DTEND:20220603T130000Z
DTSTAMP:20260420T183434Z
SUMMARY:Kindergarten Authors Breakfast
DESCRIPTION:Kindergarten Authors Breakfast
LOCATION:undefined
UID:741633299143104608
END:VEVENT
END:VCALENDAR
