BEGIN:VCALENDAR
PRODID:-//punkave//apostrophe 2.x//EN
VERSION:1.0
TZ:0
BEGIN:VEVENT
CATEGORIES:MEETING
DTSTART:20220922T230000Z
DTEND:20220923T003000Z
DTSTAMP:20260421T012810Z
SUMMARY:Lower School Back to School Night
DESCRIPTION:
LOCATION:undefined
UID:457309317791637459
END:VEVENT
END:VCALENDAR
