BEGIN:VCALENDAR
PRODID:-//punkave//apostrophe 2.x//EN
VERSION:1.0
TZ:0
BEGIN:VEVENT
CATEGORIES:MEETING
DTSTART:20220429T173000Z
DTEND:20220429T183000Z
DTSTAMP:20260420T165453Z
SUMMARY:Lower School Talent Show
DESCRIPTION:Lower School Talent Show
LOCATION:undefined
UID:871046744606558737
END:VEVENT
END:VCALENDAR
