BEGIN:VCALENDAR
PRODID:-//punkave//apostrophe 2.x//EN
VERSION:1.0
TZ:0
BEGIN:VEVENT
CATEGORIES:MEETING
DTSTART:20220504T123000Z
DTEND:20220504T130000Z
DTSTAMP:20260420T165649Z
SUMMARY:Meeting for Worship
DESCRIPTION:Meeting for Worship
LOCATION:undefined
UID:183349882519129168
END:VEVENT
END:VCALENDAR
