BEGIN:VCALENDAR
PRODID:-//punkave//apostrophe 2.x//EN
VERSION:1.0
TZ:0
BEGIN:VEVENT
CATEGORIES:MEETING
DTSTART:20220427T123000Z
DTEND:20220427T130000Z
DTSTAMP:20260420T165637Z
SUMMARY:Meeting for Worship
DESCRIPTION:Meeting for Worship
LOCATION:undefined
UID:288189704591672432
END:VEVENT
END:VCALENDAR
