BEGIN:VCALENDAR
PRODID:-//punkave//apostrophe 2.x//EN
VERSION:1.0
TZ:0
BEGIN:VEVENT
CATEGORIES:MEETING
DTSTART:20220601T123000Z
DTEND:20220601T130000Z
DTSTAMP:20260420T183847Z
SUMMARY:Meeting for Worship
DESCRIPTION:Meeting for Worship
LOCATION:undefined
UID:430089915425584708
END:VEVENT
END:VCALENDAR
