BEGIN:VCALENDAR
PRODID:-//punkave//apostrophe 2.x//EN
VERSION:1.0
TZ:0
BEGIN:VEVENT
CATEGORIES:MEETING
DTSTART:20220413T123000Z
DTEND:20220413T130000Z
DTSTAMP:20260420T153152Z
SUMMARY:Meeting for Worship
DESCRIPTION:Meeting for Worship
LOCATION:undefined
UID:743263832177722590
END:VEVENT
END:VCALENDAR
