BEGIN:VCALENDAR
PRODID:-//punkave//apostrophe 2.x//EN
VERSION:1.0
TZ:0
BEGIN:VEVENT
CATEGORIES:MEETING
DTSTART:20220406T123000Z
DTEND:20220406T130000Z
DTSTAMP:20260420T152228Z
SUMMARY:Meeting for Worship
DESCRIPTION:Meeting for Worship
LOCATION:undefined
UID:502545640566979084
END:VEVENT
END:VCALENDAR
