BEGIN:VCALENDAR
PRODID:-//punkave//apostrophe 2.x//EN
VERSION:1.0
TZ:0
BEGIN:VEVENT
CATEGORIES:MEETING
DTSTART:20220608T123000Z
DTEND:20220608T130000Z
DTSTAMP:20260420T183741Z
SUMMARY:Meeting for Worship
DESCRIPTION:Meeting for Worship
LOCATION:undefined
UID:544586451999439971
END:VEVENT
END:VCALENDAR
