BEGIN:VCALENDAR
PRODID:-//punkave//apostrophe 2.x//EN
VERSION:1.0
TZ:0
BEGIN:VEVENT
CATEGORIES:MEETING
DTSTART:20220511T123000Z
DTEND:20220511T130000Z
DTSTAMP:20260420T164436Z
SUMMARY:Meeting for Worship
DESCRIPTION:Meeting for Worship
LOCATION:undefined
UID:662339139145286886
END:VEVENT
END:VCALENDAR
