BEGIN:VCALENDAR
PRODID:-//punkave//apostrophe 2.x//EN
VERSION:1.0
TZ:0
BEGIN:VEVENT
CATEGORIES:MEETING
DTSTART:20220420T123000Z
DTEND:20220420T130000Z
DTSTAMP:20260420T183808Z
SUMMARY:Meeting for Worship
DESCRIPTION:Meeting for Worship
LOCATION:undefined
UID:958316882879991605
END:VEVENT
END:VCALENDAR
