BEGIN:VCALENDAR
PRODID:-//punkave//apostrophe 2.x//EN
VERSION:1.0
TZ:0
BEGIN:VEVENT
CATEGORIES:MEETING
DTSTART:20220913T230000Z
DTEND:20220914T003000Z
DTSTAMP:20260421T012947Z
SUMMARY:Middle School Back to School Night
DESCRIPTION:Middle School Back to School Night
LOCATION:undefined
UID:308061314475199256
END:VEVENT
END:VCALENDAR
