BEGIN:VCALENDAR
PRODID:-//punkave//apostrophe 2.x//EN
VERSION:1.0
TZ:0
BEGIN:VEVENT
CATEGORIES:MEETING
DTSTART:20220514T170000Z
DTEND:20220514T190000Z
DTSTAMP:20260420T165741Z
SUMMARY:Middle School Play: Sideways Stories from Wayside School
DESCRIPTION:for tickets: 
https://greenestreetfriendsorg.ticketleap.com/stories-from-wayside-school/details
LOCATION:undefined
UID:877985469379976123
END:VEVENT
END:VCALENDAR
