BEGIN:VCALENDAR
PRODID:-//punkave//apostrophe 2.x//EN
VERSION:1.0
TZ:0
BEGIN:VEVENT
CATEGORIES:MEETING
DTSTART:20220603T170000Z
DTEND:20220603T183000Z
DTSTAMP:20260420T183532Z
SUMMARY:Middle School Talent Show
DESCRIPTION:Middle School Talent Show
LOCATION:undefined
UID:813370336686501793
END:VEVENT
END:VCALENDAR
