BEGIN:VCALENDAR
PRODID:-//punkave//apostrophe 2.x//EN
VERSION:1.0
TZ:0
BEGIN:VEVENT
CATEGORIES:MEETING
DTSTART:20260506T040000Z
DTEND:20260506T040000Z
DTSTAMP:20260421T084050Z
SUMMARY:Morning with A Friend
DESCRIPTION:
LOCATION:undefined
UID:589140703951109963
END:VEVENT
END:VCALENDAR
