BEGIN:VCALENDAR
PRODID:-//punkave//apostrophe 2.x//EN
VERSION:1.0
TZ:0
BEGIN:VEVENT
CATEGORIES:MEETING
DTSTART:20220512T130000Z
DTEND:20220512T134500Z
DTSTAMP:20260420T165622Z
SUMMARY:Moving Up to 2nd and 3rd Grades
DESCRIPTION:Join us in the Meetinghouse for this program highlighting the coming school year. We'll start with some time together, learn about the academic program, tour the classrooms and meet with members of the Student Support Team.
LOCATION:undefined
UID:719985270906531413
END:VEVENT
END:VCALENDAR
