BEGIN:VCALENDAR
PRODID:-//punkave//apostrophe 2.x//EN
VERSION:1.0
TZ:0
BEGIN:VEVENT
CATEGORIES:MEETING
DTSTART:20220510T130000Z
DTEND:20220510T134500Z
DTSTAMP:20260420T164844Z
SUMMARY:Moving up to K and 1st Grades
DESCRIPTION:Join us in the Meetinghouse for this program highlighting the coming school year. We'll start with some time together, learn about the academic program, tour the classrooms and meet with members of the Student Support Team.
LOCATION:undefined
UID:147862810595404047
END:VEVENT
END:VCALENDAR
