BEGIN:VCALENDAR
PRODID:-//punkave//apostrophe 2.x//EN
VERSION:1.0
TZ:0
BEGIN:VEVENT
CATEGORIES:MEETING
DTSTART:20220901T123000Z
DTEND:20220901T143000Z
DTSTAMP:20260420T234649Z
SUMMARY:New Student Orientation
DESCRIPTION:New Student Orientation
LOCATION:undefined
UID:707354748720603356
END:VEVENT
END:VCALENDAR
